BEGIN:VCALENDAR
VERSION:2.0
PRODID:-//Sangaree Community - ECPv6.15.20//NONSGML v1.0//EN
CALSCALE:GREGORIAN
METHOD:PUBLISH
X-WR-CALNAME:Sangaree Community
X-ORIGINAL-URL:https://sangaree.us
X-WR-CALDESC:Events for Sangaree Community
REFRESH-INTERVAL;VALUE=DURATION:PT1H
X-Robots-Tag:noindex
X-PUBLISHED-TTL:PT1H
BEGIN:VTIMEZONE
TZID:America/New_York
BEGIN:DAYLIGHT
TZOFFSETFROM:-0500
TZOFFSETTO:-0400
TZNAME:EDT
DTSTART:20250309T070000
END:DAYLIGHT
BEGIN:STANDARD
TZOFFSETFROM:-0400
TZOFFSETTO:-0500
TZNAME:EST
DTSTART:20251102T060000
END:STANDARD
BEGIN:DAYLIGHT
TZOFFSETFROM:-0500
TZOFFSETTO:-0400
TZNAME:EDT
DTSTART:20260308T070000
END:DAYLIGHT
BEGIN:STANDARD
TZOFFSETFROM:-0400
TZOFFSETTO:-0500
TZNAME:EST
DTSTART:20261101T060000
END:STANDARD
BEGIN:DAYLIGHT
TZOFFSETFROM:-0500
TZOFFSETTO:-0400
TZNAME:EDT
DTSTART:20270314T070000
END:DAYLIGHT
BEGIN:STANDARD
TZOFFSETFROM:-0400
TZOFFSETTO:-0500
TZNAME:EST
DTSTART:20271107T060000
END:STANDARD
END:VTIMEZONE
BEGIN:VEVENT
DTSTART;TZID=America/New_York:20260203T180000
DTEND;TZID=America/New_York:20260203T193000
DTSTAMP:20260423T162723
CREATED:20250205T015632Z
LAST-MODIFIED:20250804T014332Z
UID:1405-1770141600-1770147000@sangaree.us
SUMMARY:February 2026 Public Meeting
DESCRIPTION:Public meeting for the Sangaree Special Tax District. Come join us! Zoom link to be posted.
URL:https://sangaree.us/event/february-2026-public-meeting/
LOCATION:Sangaree Library\, 595 Sangaree Parkway\, Summerville\, SC\, 29486\, United States
CATEGORIES:Public Tax District Meeting
ORGANIZER;CN="Sangaree Special Tax District":MAILTO:websstd@berkeleycountysc.gov
END:VEVENT
END:VCALENDAR