BEGIN:VCALENDAR
VERSION:2.0
PRODID:-//Sangaree Community - ECPv6.15.20//NONSGML v1.0//EN
CALSCALE:GREGORIAN
METHOD:PUBLISH
X-ORIGINAL-URL:https://sangaree.us
X-WR-CALDESC:Events for Sangaree Community
REFRESH-INTERVAL;VALUE=DURATION:PT1H
X-Robots-Tag:noindex
X-PUBLISHED-TTL:PT1H
BEGIN:VTIMEZONE
TZID:America/New_York
BEGIN:DAYLIGHT
TZOFFSETFROM:-0500
TZOFFSETTO:-0400
TZNAME:EDT
DTSTART:20250309T070000
END:DAYLIGHT
BEGIN:STANDARD
TZOFFSETFROM:-0400
TZOFFSETTO:-0500
TZNAME:EST
DTSTART:20251102T060000
END:STANDARD
BEGIN:DAYLIGHT
TZOFFSETFROM:-0500
TZOFFSETTO:-0400
TZNAME:EDT
DTSTART:20260308T070000
END:DAYLIGHT
BEGIN:STANDARD
TZOFFSETFROM:-0400
TZOFFSETTO:-0500
TZNAME:EST
DTSTART:20261101T060000
END:STANDARD
BEGIN:DAYLIGHT
TZOFFSETFROM:-0500
TZOFFSETTO:-0400
TZNAME:EDT
DTSTART:20270314T070000
END:DAYLIGHT
BEGIN:STANDARD
TZOFFSETFROM:-0400
TZOFFSETTO:-0500
TZNAME:EST
DTSTART:20271107T060000
END:STANDARD
END:VTIMEZONE
BEGIN:VEVENT
DTSTART;TZID=America/New_York:20260407T180000
DTEND;TZID=America/New_York:20260407T190000
DTSTAMP:20260423T164016
CREATED:20260204T011511Z
LAST-MODIFIED:20260204T011511Z
UID:1518-1775584800-1775588400@sangaree.us
SUMMARY:April 2026 Planning Meeting
DESCRIPTION:April 2026 planning meeting.
URL:https://sangaree.us/event/april-2026-planning-meeting/
LOCATION:Sangaree Special Tax District Office\, 102 Sangaree Park Ct; Suite 1\, Summerville\, SC\, 29486\, United States
CATEGORIES:Tax District Planning Meeting
ORGANIZER;CN="Sangaree Special Tax District":MAILTO:websstd@berkeleycountysc.gov
END:VEVENT
BEGIN:VEVENT
DTSTART;TZID=America/New_York:20260303T180000
DTEND;TZID=America/New_York:20260303T190000
DTSTAMP:20260423T164016
CREATED:20260204T011406Z
LAST-MODIFIED:20260204T011406Z
UID:1516-1772560800-1772564400@sangaree.us
SUMMARY:March 2026 Planning Meeting
DESCRIPTION:March 2026 planning meeting.
URL:https://sangaree.us/event/march-2026-planning-meeting/
LOCATION:Sangaree Special Tax District Office\, 102 Sangaree Park Ct; Suite 1\, Summerville\, SC\, 29486\, United States
CATEGORIES:Tax District Planning Meeting
ORGANIZER;CN="Sangaree Special Tax District":MAILTO:websstd@berkeleycountysc.gov
END:VEVENT
BEGIN:VEVENT
DTSTART;TZID=America/New_York:20260106T180000
DTEND;TZID=America/New_York:20260106T193000
DTSTAMP:20260423T164016
CREATED:20250205T015538Z
LAST-MODIFIED:20250205T015538Z
UID:1403-1767722400-1767727800@sangaree.us
SUMMARY:January 2026 Planning Meeting
DESCRIPTION:January 2026 planning meeting.
URL:https://sangaree.us/event/january-2026-planning-meeting/
LOCATION:Sangaree Special Tax District Office\, 102 Sangaree Park Ct; Suite 1\, Summerville\, SC\, 29486\, United States
CATEGORIES:Tax District Planning Meeting
ORGANIZER;CN="Sangaree Special Tax District":MAILTO:websstd@berkeleycountysc.gov
END:VEVENT
END:VCALENDAR